BEGIN:VCALENDAR
VERSION:2.0
PRODID:-//Deck. Waikiki - ECPv6.11.2.1//NONSGML v1.0//EN
CALSCALE:GREGORIAN
METHOD:PUBLISH
X-ORIGINAL-URL:http://52.21.245.249
X-WR-CALDESC:Events for Deck. Waikiki
REFRESH-INTERVAL;VALUE=DURATION:PT1H
X-Robots-Tag:noindex
X-PUBLISHED-TTL:PT1H
BEGIN:VTIMEZONE
TZID:UTC
BEGIN:STANDARD
TZOFFSETFROM:+0000
TZOFFSETTO:+0000
TZNAME:UTC
DTSTART:20260101T000000
END:STANDARD
END:VTIMEZONE
BEGIN:VEVENT
DTSTART;TZID=UTC:20260501T063000
DTEND;TZID=UTC:20260501T220000
DTSTAMP:20260420T011954
CREATED:20240215T031802Z
LAST-MODIFIED:20260411T222130Z
UID:7029-1777617000-1777672800@52.21.245.249
SUMMARY:PAU HANA FRIDAY
DESCRIPTION:Visit What’s on Deck. for information about offers and upcoming events!\nFollow us on Instagram @deckwaikiki or join our newsletter for the latest updates.\n \nReservation:\nBook a reservation online from our OpenTable page\nFor groups of 15 or more\, and for private events\, please use our contact form for availability.\nYou can also visit our events page to learn more about our private space\, Leahi Room & Lanai. \nAbout Deck.\nDeck. is an all day open-air restaurant and bar with view of Diamond Head.\nVisit our website for more information! \n日本語
URL:http://52.21.245.249/whatsondeck/pau-hana-friday-2/
ATTACH;FMTTYPE=image/png:http://52.21.245.249/wp-content/uploads/2025/09/DAILY-SPECIALS-5.png
END:VEVENT
BEGIN:VEVENT
DTSTART;TZID=UTC:20260504T063000
DTEND;TZID=UTC:20260504T220000
DTSTAMP:20260420T011954
CREATED:20240215T031942Z
LAST-MODIFIED:20260418T170031Z
UID:7034-1777876200-1777932000@52.21.245.249
SUMMARY:MAI TAI MONDAY
DESCRIPTION:Visit What’s on Deck. for information about offers and upcoming events!\nFollow us on Instagram @deckwaikiki or join our newsletter for the latest updates.\n \nReservation:\nBook a reservation online from our OpenTable page\nFor groups of 15 or more\, and for private events\, please use our contact form for availability.\nYou can also visit our events page to learn more about our private space\, Leahi Room & Lanai. \nAbout Deck.\nDeck. is an all day open-air restaurant and bar with view of Diamond Head.\nVisit our website for more information! \n日本語
URL:http://52.21.245.249/whatsondeck/mai-tai-monday-2/
ATTACH;FMTTYPE=image/png:http://52.21.245.249/wp-content/uploads/2025/09/DAILY-SPECIALS.png
END:VEVENT
BEGIN:VEVENT
DTSTART;TZID=UTC:20260505T063000
DTEND;TZID=UTC:20260505T220000
DTSTAMP:20260420T011954
CREATED:20240215T025700Z
LAST-MODIFIED:20260418T170040Z
UID:6987-1777962600-1778018400@52.21.245.249
SUMMARY:TEQUILA TUESDAY
DESCRIPTION:Visit What’s on Deck. for information about offers and upcoming events!\nFollow us on Instagram @deckwaikiki or join our newsletter for the latest updates.\n \nReservation:\nBook a reservation online from our OpenTable page\nFor groups of 15 or more\, and for private events\, please use our contact form for availability.\nYou can also visit our events page to learn more about our private space\, Leahi Room & Lanai. \nAbout Deck.\nDeck. is an all day open-air restaurant and bar with view of Diamond Head.\nVisit our website for more information! \n日本語
URL:http://52.21.245.249/whatsondeck/tequila-tuesday/
ATTACH;FMTTYPE=image/png:http://52.21.245.249/wp-content/uploads/2025/09/DAILY-SPECIALS-2.png
END:VEVENT
BEGIN:VEVENT
DTSTART;TZID=UTC:20260506T063000
DTEND;TZID=UTC:20260506T220000
DTSTAMP:20260420T011954
CREATED:20240215T030651Z
LAST-MODIFIED:20260418T170050Z
UID:7017-1778049000-1778104800@52.21.245.249
SUMMARY:WHISKEY WEDNESDAY
DESCRIPTION:Visit What’s on Deck. for information about offers and upcoming events!\nFollow us on Instagram @deckwaikiki or join our newsletter for the latest updates.\n \nReservation:\nBook a reservation online from our OpenTable page\nFor groups of 15 or more\, and for private events\, please use our contact form for availability.\nYou can also visit our events page to learn more about our private space\, Leahi Room & Lanai. \nAbout Deck.\nDeck. is an all day open-air restaurant and bar with view of Diamond Head.\nVisit our website for more information! \n日本語
URL:http://52.21.245.249/whatsondeck/whiskey-wednesday/
ATTACH;FMTTYPE=image/png:http://52.21.245.249/wp-content/uploads/2025/09/DAILY-SPECIALS-3.png
END:VEVENT
BEGIN:VEVENT
DTSTART;TZID=UTC:20260507T180000
DTEND;TZID=UTC:20260507T220000
DTSTAMP:20260420T011954
CREATED:20240131T211530Z
LAST-MODIFIED:20260418T170102Z
UID:472-1778176800-1778191200@52.21.245.249
SUMMARY:THIRSTY THURSDAY
DESCRIPTION:Visit What’s on Deck. for information about offers and upcoming events!\nFollow us on Instagram @deckwaikiki or join our newsletter for the latest updates.\n \nReservation:\nBook a reservation online from our OpenTable page\nFor groups of 15 or more\, and for private events\, please use our contact form for availability.\nYou can also visit our events page to learn more about our private space\, Leahi Room & Lanai. \nAbout Deck.\nDeck. is an all day open-air restaurant and bar with view of Diamond Head.\nVisit our website for more information! \n日本語
URL:http://52.21.245.249/whatsondeck/thirsty-thursday/
ATTACH;FMTTYPE=image/png:http://52.21.245.249/wp-content/uploads/2025/09/DAILY-SPECIALS-4.png
END:VEVENT
BEGIN:VEVENT
DTSTART;TZID=UTC:20260508T063000
DTEND;TZID=UTC:20260508T220000
DTSTAMP:20260420T011954
CREATED:20240131T212028Z
LAST-MODIFIED:20260418T170112Z
UID:476-1778221800-1778277600@52.21.245.249
SUMMARY:PAU HANA FRIDAY
DESCRIPTION:Visit What’s on Deck. for information about offers and upcoming events!\nFollow us on Instagram @deckwaikiki or join our newsletter for the latest updates.\n \nReservation:\nBook a reservation online from our OpenTable page\nFor groups of 15 or more\, and for private events\, please use our contact form for availability.\nYou can also visit our events page to learn more about our private space\, Leahi Room & Lanai. \nAbout Deck.\nDeck. is an all day open-air restaurant and bar with view of Diamond Head.\nVisit our website for more information! \n日本語
URL:http://52.21.245.249/whatsondeck/pau-hana-friday/
ATTACH;FMTTYPE=image/png:http://52.21.245.249/wp-content/uploads/2025/09/DAILY-SPECIALS-5.png
END:VEVENT
END:VCALENDAR